BEGIN:VCALENDAR
VERSION:2.0
PRODID:-//NVPS - ECPv6.15.20//NONSGML v1.0//EN
CALSCALE:GREGORIAN
METHOD:PUBLISH
X-WR-CALNAME:NVPS
X-ORIGINAL-URL:https://nvps.org/home
X-WR-CALDESC:Events for NVPS
REFRESH-INTERVAL;VALUE=DURATION:PT1H
X-Robots-Tag:noindex
X-PUBLISHED-TTL:PT1H
BEGIN:VTIMEZONE
TZID:America/New_York
BEGIN:DAYLIGHT
TZOFFSETFROM:-0500
TZOFFSETTO:-0400
TZNAME:EDT
DTSTART:20220313T070000
END:DAYLIGHT
BEGIN:STANDARD
TZOFFSETFROM:-0400
TZOFFSETTO:-0500
TZNAME:EST
DTSTART:20221106T060000
END:STANDARD
BEGIN:DAYLIGHT
TZOFFSETFROM:-0500
TZOFFSETTO:-0400
TZNAME:EDT
DTSTART:20230312T070000
END:DAYLIGHT
BEGIN:STANDARD
TZOFFSETFROM:-0400
TZOFFSETTO:-0500
TZNAME:EST
DTSTART:20231105T060000
END:STANDARD
BEGIN:DAYLIGHT
TZOFFSETFROM:-0500
TZOFFSETTO:-0400
TZNAME:EDT
DTSTART:20240310T070000
END:DAYLIGHT
BEGIN:STANDARD
TZOFFSETFROM:-0400
TZOFFSETTO:-0500
TZNAME:EST
DTSTART:20241103T060000
END:STANDARD
END:VTIMEZONE
BEGIN:VEVENT
DTSTART;TZID=America/New_York:20230523T193000
DTEND;TZID=America/New_York:20230523T194500
DTSTAMP:20260419T163139
CREATED:20220708T203448Z
LAST-MODIFIED:20230316T140828Z
UID:25374-1684870200-1684871100@nvps.org
SUMMARY:Member’s Gallery – Prints (Virtually) Birds - One Photo Per Species with David Kravitz
DESCRIPTION:Description: David took this invitation as a challenge to create enough acceptable photographs of birds to fill a 10-minute presentation without repeating species. The photographs were taken in the U.S.\, Costa Rica\, Ecuador (the Galapagos Islands)\, and Iceland \nBio: David Kravitz enjoyed Black and White photography (with his own darkroom) for 2-3 years around 1970\, but then life intervened and time for photography faded away. He always intended to return to photography when he retired\, which he did in June 2019. He researched local photography clubs and\, because he concluded that it would provide the best learning opportunities\, he joined NVPS – a decision he has never regretted. He considers himself a neophyte and is still open to almost all areas of photography. He devotes the most time to nature photography\, but also enjoys travel\, documentary\, street\, and sports photography.
URL:https://nvps.org/home/event/members-gallery-prints-virtually-birds-one-photo-per-species-with-david-kravitz/
LOCATION:Virtual via Zoom
CATEGORIES:Activities,Member's Gallery
ATTACH;FMTTYPE=image/jpeg:https://nvps.org/home/wp-content/uploads/2022/07/Ashley_of_David_2.jpg
END:VEVENT
BEGIN:VEVENT
DTSTART;TZID=America/New_York:20230523T194500
DTEND;TZID=America/New_York:20230523T200000
DTSTAMP:20260419T163139
CREATED:20220708T203650Z
LAST-MODIFIED:20230321T142739Z
UID:25376-1684871100-1684872000@nvps.org
SUMMARY:Member’s Gallery – Digital: Patagonia and Beyond with Fred Krebs
DESCRIPTION:Patagonian Sunrise–at Lago Grey Hotel\nFred Krebs just returned from a 3 1/2 week Overseas Adventure Travel trip around Patagonia. This presentation will include images from across that remote\, diverse and incredibly beautiful region as well as a few from Buenos Aires and Iguazu Falls (spectacular in its own right). \nFred joined NVPS in 2018 and is thankful for how much it has helped him improve his photographic skills. He generally takes away something from each meeting that he can use. Fred especially appreciates the Portfolio Projects and how much he learns from his participation. \nFred takes pictures of things that interest him (which frequently changes). Since retiring Fred and his wife have increased their travels and the photo opportunities have grown as well.  He loves travel photography but his pictures may include just about anything else. Recently\, he has become especially fascinated with black and white and hopes to improve in that area. \nFred purchased his first camera in 1975 shortly after coming to Washington\, DC for a new job.  The first paycheck paid the rent and with the second he bought an Olympus OM 1 (which he still has). While he has tried virtually every brand of camera from Canon to Sony\, Fred remains partial to Olympus and the mirrorless MFT system because of its relatively small size. However\, he took several of the photos in this presentation with his iPhone 13\, which has assumed an increasingly larger role in his photography. He subscribes to the saying\, “the best camera is the one you have with you”.
URL:https://nvps.org/home/event/members-gallery-digital-patagonia-and-beyond-with-fred-krebs/
LOCATION:Virtual via Zoom
CATEGORIES:Activities,Member's Gallery
ATTACH;FMTTYPE=image/jpeg:https://nvps.org/home/wp-content/uploads/2022/07/Fred-Krebs_8081.jpg
END:VEVENT
END:VCALENDAR