BEGIN:VCALENDAR
VERSION:2.0
PRODID:-//NVPS - ECPv6.15.20//NONSGML v1.0//EN
CALSCALE:GREGORIAN
METHOD:PUBLISH
X-ORIGINAL-URL:https://nvps.org/home
X-WR-CALDESC:Events for NVPS
REFRESH-INTERVAL;VALUE=DURATION:PT1H
X-Robots-Tag:noindex
X-PUBLISHED-TTL:PT1H
BEGIN:VTIMEZONE
TZID:America/New_York
BEGIN:DAYLIGHT
TZOFFSETFROM:-0500
TZOFFSETTO:-0400
TZNAME:EDT
DTSTART:20220313T070000
END:DAYLIGHT
BEGIN:STANDARD
TZOFFSETFROM:-0400
TZOFFSETTO:-0500
TZNAME:EST
DTSTART:20221106T060000
END:STANDARD
BEGIN:DAYLIGHT
TZOFFSETFROM:-0500
TZOFFSETTO:-0400
TZNAME:EDT
DTSTART:20230312T070000
END:DAYLIGHT
BEGIN:STANDARD
TZOFFSETFROM:-0400
TZOFFSETTO:-0500
TZNAME:EST
DTSTART:20231105T060000
END:STANDARD
BEGIN:DAYLIGHT
TZOFFSETFROM:-0500
TZOFFSETTO:-0400
TZNAME:EDT
DTSTART:20240310T070000
END:DAYLIGHT
BEGIN:STANDARD
TZOFFSETFROM:-0400
TZOFFSETTO:-0500
TZNAME:EST
DTSTART:20241103T060000
END:STANDARD
END:VTIMEZONE
BEGIN:VEVENT
DTSTART;TZID=America/New_York:20231203T121500
DTEND;TZID=America/New_York:20231203T153000
DTSTAMP:20260419T120447
CREATED:20231007T164135Z
LAST-MODIFIED:20231121T005323Z
UID:28512-1701605700-1701617400@nvps.org
SUMMARY:Field Trips:  Cyclocross
DESCRIPTION:Do you like action photography?  Have you wanted to try outdoor sports photography?  Would you like to have fun in the process?  In December we’re going to a free local cyclocross event known as the Capital ‘Cross Classic where you’ll have the opportunity to photograph cyclists up close and personal as they race on pavement\, on grass\, up and down hills and even carry their bikes over hurdles!  While this is a sporting event\, it is high-energy and very spirited: some riders wear costumes\, food and drink is handed out to the riders and some years there is live music. There is also a lot of cheering. It takes place in Lake Fairfax Park in Reston.  This is an all-day event (usually 8:15 a.m. – 4:00 p.m.) but we will go to the afternoon races\, which culminate in the exciting elite men’s race at 3:00 p.m. The event is held rain or shine (or snow) and if it rains or has recently rained the course and riders get muddy\, making for dramatic photos.    \n\n\n\nWhen:Sunday\, Dec. 3 from 12:15 p.m. – 3:30 p.m.   \n\n\n\nThere is no rain date for this event since it will take place in the event of inclement weather.   \n\n\n\nEquipment and Notes: \n\n\n\n\nBoth short and long lenses have a place when shooting cyclocross\, so a walk-around lens with good range (e.g. 24-120 or 28-300) is the easiest lens to take.  However\, since the action is fast\, better glass will make for better images\, so a combination 24-70 2.8 and 70-200 2.8 would also work well.  Flash is often used to freeze the action and does not disturb the riders.  We suggest leaving tripods and monopods at home since there is a lot of walking the course\, some walking in tight spaces and moving around to get the right angle.\n\n\n\n\n\nFor those who can’t or don’t want to walk up hills or on uneven surfaces\, there is a flat area of the course that will also have good photo ops\n\n\n\n\n\nThere is free parking in the lot for the park and there is good turnover in spaces since some riders leave after their early races and others come in the afternoon for their later races. \n\n\n\n\n\nThere are restrooms at the park and there are usually one or two food trucks there for this event\n\n\n\n\n\nFeel free to go earlier and meet us at 12:15 p.m.  Races usually start at 8:00 a.m. and there is usually a race for kids under 9 years old at noon\n\n\n\n\n\nThe race schedule for this year has not yet come out but is expected to be the same as in years past.  If there are any changes in the schedule and therefore a change in the field trip time we will notify you well before the field trip\n\n\n\n\n \n\n\n\nWhere: \n\n\n\nLake Fairfax Park \n\n\n\n1400 Lake Fairfax Drive \n\n\n\nReston\, VA \n\n\n\nWe will meet at 12:15 p.m. in front of the park office (which will be closed)\, which is the larger of the two structures in the park and located between the parking lot and the grassy part of the course.  \n\n\n\nWe hope you can join us!Rena Schild and Steven GlintzField Trip Coordinators 2023-2024
URL:https://nvps.org/home/event/field-trips-cyclocross/
CATEGORIES:Activities,Field Trips
END:VEVENT
END:VCALENDAR